BEGIN:VCALENDAR
VERSION:2.0
PRODID:-//PSO - Pistolensektion Obersiggenthal - ECPv6.15.20//NONSGML v1.0//EN
CALSCALE:GREGORIAN
METHOD:PUBLISH
X-WR-CALNAME:PSO - Pistolensektion Obersiggenthal
X-ORIGINAL-URL:https://ps-obersiggenthal.ch
X-WR-CALDESC:Veranstaltungen für PSO - Pistolensektion Obersiggenthal
REFRESH-INTERVAL;VALUE=DURATION:PT1H
X-Robots-Tag:noindex
X-PUBLISHED-TTL:PT1H
BEGIN:VTIMEZONE
TZID:Europe/Zurich
BEGIN:DAYLIGHT
TZOFFSETFROM:+0100
TZOFFSETTO:+0200
TZNAME:CEST
DTSTART:20250330T010000
END:DAYLIGHT
BEGIN:STANDARD
TZOFFSETFROM:+0200
TZOFFSETTO:+0100
TZNAME:CET
DTSTART:20251026T010000
END:STANDARD
BEGIN:DAYLIGHT
TZOFFSETFROM:+0100
TZOFFSETTO:+0200
TZNAME:CEST
DTSTART:20260329T010000
END:DAYLIGHT
BEGIN:STANDARD
TZOFFSETFROM:+0200
TZOFFSETTO:+0100
TZNAME:CET
DTSTART:20261025T010000
END:STANDARD
BEGIN:DAYLIGHT
TZOFFSETFROM:+0100
TZOFFSETTO:+0200
TZNAME:CEST
DTSTART:20270328T010000
END:DAYLIGHT
BEGIN:STANDARD
TZOFFSETFROM:+0200
TZOFFSETTO:+0100
TZNAME:CET
DTSTART:20271031T010000
END:STANDARD
END:VTIMEZONE
BEGIN:VEVENT
DTSTART;TZID=Europe/Zurich:20260422T173000
DTEND;TZID=Europe/Zurich:20260422T200000
DTSTAMP:20260422T153316
CREATED:20260217T200655Z
LAST-MODIFIED:20260218T093602Z
UID:1051-1776879000-1776888000@ps-obersiggenthal.ch
SUMMARY:Training
DESCRIPTION:Standaufsicht B. Marchesi
URL:https://ps-obersiggenthal.ch/event/training-6/
LOCATION:SA Ebne\, SA Ebne\, Obersiggenthal\, Aargau\, 5415\, Schweiz
CATEGORIES:Freies Training,Training
END:VEVENT
BEGIN:VEVENT
DTSTART;TZID=Europe/Zurich:20260424T160000
DTEND;TZID=Europe/Zurich:20260424T183000
DTSTAMP:20260422T153316
CREATED:20260218T095450Z
LAST-MODIFIED:20260218T120457Z
UID:1147-1777046400-1777055400@ps-obersiggenthal.ch
SUMMARY:Türggenschiessen 2026
DESCRIPTION:Durchführung 2026                                               Schiesszeiten \n​​Freitag\,    17. April                                                             16.00 – 18.30 Uhr\nSamstag\, 18. April                            09.00 – 11.45 Uhr   13.30 – 16.30 Uhr\n \nFreitag\,    24. April                                                            16.00 – 18.30 Uhr\nSamstag\, 25. April                            09.00 – 11.45 Uhr   13.30 – 16.30 Uhr \nStandblattausgabe bis 20 Minuten vor Schiessende möglich! \nSchiessplan (genehmigt)\nGruppenstandblatt (Anmeldung)
URL:https://ps-obersiggenthal.ch/event/tuerggenschiessen-2026-3/
LOCATION:SA Ennetbaden\, F8JH+G3W Ennetbaden\, Ennetbaden\, Aargau\, 5408\, Switzerland
CATEGORIES:Wettschiessen auswärts
ORGANIZER;CN="PS Ennetbaden":MAILTO:info@ps-ennetbaden.ch
END:VEVENT
BEGIN:VEVENT
DTSTART;TZID=Europe/Zurich:20260425T090000
DTEND;TZID=Europe/Zurich:20260425T163000
DTSTAMP:20260422T153316
CREATED:20260218T095531Z
LAST-MODIFIED:20260218T120452Z
UID:1149-1777107600-1777134600@ps-obersiggenthal.ch
SUMMARY:Türggenschiessen 2026
DESCRIPTION:Durchführung 2026                                               Schiesszeiten \n​​Freitag\,    17. April                                                             16.00 – 18.30 Uhr\nSamstag\, 18. April                            09.00 – 11.45 Uhr   13.30 – 16.30 Uhr\n \nFreitag\,    24. April                                                            16.00 – 18.30 Uhr\nSamstag\, 25. April                            09.00 – 11.45 Uhr   13.30 – 16.30 Uhr \nStandblattausgabe bis 20 Minuten vor Schiessende möglich! \nSchiessplan (genehmigt)\nGruppenstandblatt (Anmeldung)
URL:https://ps-obersiggenthal.ch/event/tuerggenschiessen-2026-4/
LOCATION:SA Ennetbaden\, F8JH+G3W Ennetbaden\, Ennetbaden\, Aargau\, 5408\, Switzerland
CATEGORIES:Wettschiessen auswärts
ORGANIZER;CN="PS Ennetbaden":MAILTO:info@ps-ennetbaden.ch
END:VEVENT
BEGIN:VEVENT
DTSTART;TZID=Europe/Zurich:20260425T090000
DTEND;TZID=Europe/Zurich:20260425T170000
DTSTAMP:20260422T153316
CREATED:20260218T101202Z
LAST-MODIFIED:20260218T120447Z
UID:1160-1777107600-1777136400@ps-obersiggenthal.ch
SUMMARY:44. Homrig-Schiessen 2026
DESCRIPTION:44. Homrig-Schiessen 2026 \nPistolenclub Homrig\, Endingen\n18.04. / 25.04.2026\nSchiessplatz: RSA Homrig\, 5304 Endingen\n\nSektionsstich 50M\, Scheibe P10\n\nAchtung Neu: 4 Teilnehmer für eine Gruppe!!\n\n2 Schüsse EF (Probe\, einzeln gezeigt)\n6 Schüsse EF\n4 Schüsse SF (am Schluss gezeigt\, ohne Zeitbeschränkung)\n \nEinzelwettkampf ALS P 50m\, Scheibe P10\n1 Schuss EF (Probe)\n3 Schüsse EF\n3 Schüsse SF (am Schluss gezeigt\, ohne Zeitbeschränkung)\n5 Schüsse SF (am Schluss gezeigt\, ohne Zeitbeschränkung)\n \n\nAuszahlungsstich 25M\, Scheibe ISSF\n\n2 Schüsse Probe in 30 Sekunden\n2 x 5 Schüsse SF in je 30 Sekunden\n\nGenehmigter Schiessplan 2026 (pdf)\n\nAnmeldeformular Gruppen (pdf)
URL:https://ps-obersiggenthal.ch/event/44-homrig-schiessen-2026-2/
LOCATION:RSA Schützenhaus Homrig Endingen\, RSA Schützenhaus Homrig Endingen\, Endingen\, Aargau\, 5304\, Switzerland
CATEGORIES:Wettschiessen auswärts
ORGANIZER;CN="Pistolenclub Homrig":MAILTO:daniel67@bluewin.ch
END:VEVENT
BEGIN:VEVENT
DTSTART;TZID=Europe/Zurich:20260429T173000
DTEND;TZID=Europe/Zurich:20260429T200000
DTSTAMP:20260422T153316
CREATED:20260217T200759Z
LAST-MODIFIED:20260218T093557Z
UID:1053-1777483800-1777492800@ps-obersiggenthal.ch
SUMMARY:Training
DESCRIPTION:Standaufsicht K. Meier
URL:https://ps-obersiggenthal.ch/event/training-7/
LOCATION:SA Ebne\, SA Ebne\, Obersiggenthal\, Aargau\, 5415\, Schweiz
CATEGORIES:Freies Training,Training
END:VEVENT
END:VCALENDAR