BEGIN:VCALENDAR
VERSION:2.0
PRODID:-//PSO - Pistolensektion Obersiggenthal - ECPv6.15.20//NONSGML v1.0//EN
CALSCALE:GREGORIAN
METHOD:PUBLISH
X-ORIGINAL-URL:https://ps-obersiggenthal.ch
X-WR-CALDESC:Veranstaltungen für PSO - Pistolensektion Obersiggenthal
REFRESH-INTERVAL;VALUE=DURATION:PT1H
X-Robots-Tag:noindex
X-PUBLISHED-TTL:PT1H
BEGIN:VTIMEZONE
TZID:Europe/Zurich
BEGIN:DAYLIGHT
TZOFFSETFROM:+0100
TZOFFSETTO:+0200
TZNAME:CEST
DTSTART:20250330T010000
END:DAYLIGHT
BEGIN:STANDARD
TZOFFSETFROM:+0200
TZOFFSETTO:+0100
TZNAME:CET
DTSTART:20251026T010000
END:STANDARD
BEGIN:DAYLIGHT
TZOFFSETFROM:+0100
TZOFFSETTO:+0200
TZNAME:CEST
DTSTART:20260329T010000
END:DAYLIGHT
BEGIN:STANDARD
TZOFFSETFROM:+0200
TZOFFSETTO:+0100
TZNAME:CET
DTSTART:20261025T010000
END:STANDARD
BEGIN:DAYLIGHT
TZOFFSETFROM:+0100
TZOFFSETTO:+0200
TZNAME:CEST
DTSTART:20270328T010000
END:DAYLIGHT
BEGIN:STANDARD
TZOFFSETFROM:+0200
TZOFFSETTO:+0100
TZNAME:CET
DTSTART:20271031T010000
END:STANDARD
END:VTIMEZONE
BEGIN:VEVENT
DTSTART;TZID=Europe/Zurich:20260902T173000
DTEND;TZID=Europe/Zurich:20260902T200000
DTSTAMP:20260423T000006
CREATED:20260217T204139Z
LAST-MODIFIED:20260218T093315Z
UID:1105-1788370200-1788379200@ps-obersiggenthal.ch
SUMMARY:Training
DESCRIPTION:Standaufsicht Ch. Riek \nAlle erlaubten Faustfeuerwaffen
URL:https://ps-obersiggenthal.ch/event/training-30/
LOCATION:SA Ebne\, SA Ebne\, Obersiggenthal\, Aargau\, 5415\, Schweiz
CATEGORIES:Freies Training,Training
END:VEVENT
BEGIN:VEVENT
DTSTART;TZID=Europe/Zurich:20260905T090000
DTEND;TZID=Europe/Zurich:20260905T160000
DTSTAMP:20260423T000006
CREATED:20260218T114829Z
LAST-MODIFIED:20260218T120255Z
UID:1193-1788598800-1788624000@ps-obersiggenthal.ch
SUMMARY:16. Bareggschiessen 2026
DESCRIPTION:16. Bareggschiessen 2026
URL:https://ps-obersiggenthal.ch/event/16-bareggschiessen-2026/
LOCATION:Schützenhaus Neuenhof\, Schützenhaus Neuenhof\, Neuenhof\, Aargau\, 5432\, Switzerland
CATEGORIES:Wettschiessen auswärts
END:VEVENT
BEGIN:VEVENT
DTSTART;TZID=Europe/Zurich:20260909T173000
DTEND;TZID=Europe/Zurich:20260909T200000
DTSTAMP:20260423T000006
CREATED:20260217T204235Z
LAST-MODIFIED:20260218T093309Z
UID:1107-1788975000-1788984000@ps-obersiggenthal.ch
SUMMARY:Training
DESCRIPTION:Standaufsicht E. Brühwiler
URL:https://ps-obersiggenthal.ch/event/training-31/
LOCATION:SA Ebne\, SA Ebne\, Obersiggenthal\, Aargau\, 5415\, Schweiz
CATEGORIES:Freies Training,Training
END:VEVENT
BEGIN:VEVENT
DTSTART;TZID=Europe/Zurich:20260911T170000
DTEND;TZID=Europe/Zurich:20260911T200000
DTSTAMP:20260423T000006
CREATED:20260218T114931Z
LAST-MODIFIED:20260218T120248Z
UID:1196-1789146000-1789156800@ps-obersiggenthal.ch
SUMMARY:16. Bareggschiessen 2026
DESCRIPTION:16. Bareggschiessen 2026
URL:https://ps-obersiggenthal.ch/event/16-bareggschiessen-2026-2/
LOCATION:Schützenhaus Neuenhof\, Schützenhaus Neuenhof\, Neuenhof\, Aargau\, 5432\, Switzerland
CATEGORIES:Wettschiessen auswärts
END:VEVENT
BEGIN:VEVENT
DTSTART;TZID=Europe/Zurich:20260912T090000
DTEND;TZID=Europe/Zurich:20260912T153000
DTSTAMP:20260423T000006
CREATED:20260218T115019Z
LAST-MODIFIED:20260218T120243Z
UID:1198-1789203600-1789227000@ps-obersiggenthal.ch
SUMMARY:16. Bareggschiessen 2026
DESCRIPTION:16. Bareggschiessen 2026
URL:https://ps-obersiggenthal.ch/event/16-bareggschiessen-2026-3/
LOCATION:Schützenhaus Neuenhof\, Schützenhaus Neuenhof\, Neuenhof\, Aargau\, 5432\, Switzerland
CATEGORIES:Wettschiessen auswärts
END:VEVENT
BEGIN:VEVENT
DTSTART;TZID=Europe/Zurich:20260916T173000
DTEND;TZID=Europe/Zurich:20260916T193000
DTSTAMP:20260423T000006
CREATED:20260217T204336Z
LAST-MODIFIED:20260218T093225Z
UID:1109-1789579800-1789587000@ps-obersiggenthal.ch
SUMMARY:Training
DESCRIPTION:Standaufsicht A. Barben
URL:https://ps-obersiggenthal.ch/event/training-32/
LOCATION:SA Ebne\, SA Ebne\, Obersiggenthal\, Aargau\, 5415\, Schweiz
CATEGORIES:Freies Training,Training
END:VEVENT
BEGIN:VEVENT
DTSTART;TZID=Europe/Zurich:20260919T093000
DTEND;TZID=Europe/Zurich:20260919T163000
DTSTAMP:20260423T000006
CREATED:20260217T204533Z
LAST-MODIFIED:20260217T213228Z
UID:1111-1789810200-1789835400@ps-obersiggenthal.ch
SUMMARY:Endschiessen
DESCRIPTION:Standaufsicht Ch. Riek
URL:https://ps-obersiggenthal.ch/event/endschiessen/
LOCATION:SA Ebne\, SA Ebne\, Obersiggenthal\, Aargau\, 5415\, Schweiz
CATEGORIES:Wettschiessen Heim
END:VEVENT
BEGIN:VEVENT
DTSTART;TZID=Europe/Zurich:20260923T173000
DTEND;TZID=Europe/Zurich:20260923T190000
DTSTAMP:20260423T000006
CREATED:20260217T204657Z
LAST-MODIFIED:20260218T093253Z
UID:1113-1790184600-1790190000@ps-obersiggenthal.ch
SUMMARY:Training
DESCRIPTION:Standaufsicht K. Meier
URL:https://ps-obersiggenthal.ch/event/training-33/
LOCATION:SA Ebne\, SA Ebne\, Obersiggenthal\, Aargau\, 5415\, Schweiz
CATEGORIES:Freies Training,Training
END:VEVENT
BEGIN:VEVENT
DTSTART;TZID=Europe/Zurich:20260930T173000
DTEND;TZID=Europe/Zurich:20260930T190000
DTSTAMP:20260423T000006
CREATED:20260217T204744Z
LAST-MODIFIED:20260218T093243Z
UID:1115-1790789400-1790794800@ps-obersiggenthal.ch
SUMMARY:Training
DESCRIPTION:Standaufsicht Ch. Riek
URL:https://ps-obersiggenthal.ch/event/training-34/
LOCATION:SA Ebne\, SA Ebne\, Obersiggenthal\, Aargau\, 5415\, Schweiz
CATEGORIES:Freies Training,Training
END:VEVENT
END:VCALENDAR