BEGIN:VCALENDAR
VERSION:2.0
PRODID:-//PSO - Pistolensektion Obersiggenthal - ECPv6.15.20//NONSGML v1.0//EN
CALSCALE:GREGORIAN
METHOD:PUBLISH
X-WR-CALNAME:PSO - Pistolensektion Obersiggenthal
X-ORIGINAL-URL:https://ps-obersiggenthal.ch
X-WR-CALDESC:Veranstaltungen für PSO - Pistolensektion Obersiggenthal
REFRESH-INTERVAL;VALUE=DURATION:PT1H
X-Robots-Tag:noindex
X-PUBLISHED-TTL:PT1H
BEGIN:VTIMEZONE
TZID:Europe/Zurich
BEGIN:DAYLIGHT
TZOFFSETFROM:+0100
TZOFFSETTO:+0200
TZNAME:CEST
DTSTART:20250330T010000
END:DAYLIGHT
BEGIN:STANDARD
TZOFFSETFROM:+0200
TZOFFSETTO:+0100
TZNAME:CET
DTSTART:20251026T010000
END:STANDARD
BEGIN:DAYLIGHT
TZOFFSETFROM:+0100
TZOFFSETTO:+0200
TZNAME:CEST
DTSTART:20260329T010000
END:DAYLIGHT
BEGIN:STANDARD
TZOFFSETFROM:+0200
TZOFFSETTO:+0100
TZNAME:CET
DTSTART:20261025T010000
END:STANDARD
BEGIN:DAYLIGHT
TZOFFSETFROM:+0100
TZOFFSETTO:+0200
TZNAME:CEST
DTSTART:20270328T010000
END:DAYLIGHT
BEGIN:STANDARD
TZOFFSETFROM:+0200
TZOFFSETTO:+0100
TZNAME:CET
DTSTART:20271031T010000
END:STANDARD
END:VTIMEZONE
BEGIN:VEVENT
DTSTART;TZID=Europe/Zurich:20260605T073000
DTEND;TZID=Europe/Zurich:20260705T190000
DTSTAMP:20260422T203531
CREATED:20260222T164829Z
LAST-MODIFIED:20260222T164943Z
UID:1262-1780644600-1783278000@ps-obersiggenthal.ch
SUMMARY:Eidgenössisches Schützenfest Chur
DESCRIPTION:Freitag\, 5. Juni\, bis Sonntag\, 5. Juli 2026 (12.00 Uhr) \nGrundsätzlich ist der Mittwoch schiessfrei. Auf den Aussenschiessplätzen wird von Freitag bis Sonntag geschossen. Ab Freitag\, 3. Juli\, bis Sonntag\, 5. Juli 2026 (12.00 Uhr)\, findet ein reduziertes allgemeines Schiessen statt. Diese Tage sind primär reserviert für den Ständematch und die Schützenkönigs-Konkurrenzen. Die Schiesstage und die Schiesszeiten können vom OK nach Bedarf angepasst werden. Täglich von 07.30–12.00 Uhr und von 13.30–19.00 Uhr Ausnahmen: – Sonntags wird jeweils nur bis 17.00 Uhr geschossen– Sonntags auf den Aussenschiessplätzen 08.00–12.00 Uhr und von 13.30–17.00 Uhr– am 5. Juli 2026 endet das allgemeine Schiessen bereits um 12.00 Uhr
URL:https://ps-obersiggenthal.ch/event/eidgenoessisches-schuetzenfest-chur/
LOCATION:Eidgenössisches Schützenfest Chur\, 46°51’14.5“N 9°30’06.8“E\, Chur\, GR\, 7000\, Switzerland
CATEGORIES:Wettschiessen auswärts
ORGANIZER;CN="ESF2026":MAILTO:Martin.Candinas@gr2026.ch
END:VEVENT
BEGIN:VEVENT
DTSTART;TZID=Europe/Zurich:20260701T173000
DTEND;TZID=Europe/Zurich:20260701T200000
DTSTAMP:20260422T203531
CREATED:20260217T202715Z
LAST-MODIFIED:20260218T093859Z
UID:1081-1782927000-1782936000@ps-obersiggenthal.ch
SUMMARY:Training
DESCRIPTION:Standaufsicht F. Fallica
URL:https://ps-obersiggenthal.ch/event/training-20/
LOCATION:SA Ebne\, SA Ebne\, Obersiggenthal\, Aargau\, 5415\, Schweiz
CATEGORIES:Freies Training mit Munitionsverkauf,Training
END:VEVENT
BEGIN:VEVENT
DTSTART;TZID=Europe/Zurich:20260708T173000
DTEND;TZID=Europe/Zurich:20260708T200000
DTSTAMP:20260422T203531
CREATED:20260217T202810Z
LAST-MODIFIED:20260218T093405Z
UID:1083-1783531800-1783540800@ps-obersiggenthal.ch
SUMMARY:Training
DESCRIPTION:Standaufsicht B. Marchesi
URL:https://ps-obersiggenthal.ch/event/training-21/
LOCATION:SA Ebne\, SA Ebne\, Obersiggenthal\, Aargau\, 5415\, Schweiz
CATEGORIES:Freies Training,Training
END:VEVENT
BEGIN:VEVENT
DTSTART;TZID=Europe/Zurich:20260715T173000
DTEND;TZID=Europe/Zurich:20260715T200000
DTSTAMP:20260422T203531
CREATED:20260217T202909Z
LAST-MODIFIED:20260218T093400Z
UID:1085-1784136600-1784145600@ps-obersiggenthal.ch
SUMMARY:Training
DESCRIPTION:Standaufsicht F. Fallica
URL:https://ps-obersiggenthal.ch/event/training-22/
LOCATION:SA Ebne\, SA Ebne\, Obersiggenthal\, Aargau\, 5415\, Schweiz
CATEGORIES:Freies Training,Training
END:VEVENT
BEGIN:VEVENT
DTSTART;TZID=Europe/Zurich:20260722T173000
DTEND;TZID=Europe/Zurich:20260722T200000
DTSTAMP:20260422T203531
CREATED:20260217T203011Z
LAST-MODIFIED:20260218T093356Z
UID:1087-1784741400-1784750400@ps-obersiggenthal.ch
SUMMARY:Training
DESCRIPTION:Standaufsicht Ch. Ehrenberg
URL:https://ps-obersiggenthal.ch/event/training-23/
LOCATION:SA Ebne\, SA Ebne\, Obersiggenthal\, Aargau\, 5415\, Schweiz
CATEGORIES:Freies Training,Training
END:VEVENT
BEGIN:VEVENT
DTSTART;TZID=Europe/Zurich:20260729T173000
DTEND;TZID=Europe/Zurich:20260729T200000
DTSTAMP:20260422T203531
CREATED:20260217T203105Z
LAST-MODIFIED:20260218T093349Z
UID:1089-1785346200-1785355200@ps-obersiggenthal.ch
SUMMARY:Training
DESCRIPTION:Standaufsicht P. Nöthiger
URL:https://ps-obersiggenthal.ch/event/training-24/
LOCATION:SA Ebne\, SA Ebne\, Obersiggenthal\, Aargau\, 5415\, Schweiz
CATEGORIES:Freies Training,Training
END:VEVENT
END:VCALENDAR