BEGIN:VCALENDAR
VERSION:2.0
PRODID:-//PSO - Pistolensektion Obersiggenthal - ECPv6.15.20//NONSGML v1.0//EN
CALSCALE:GREGORIAN
METHOD:PUBLISH
X-ORIGINAL-URL:https://ps-obersiggenthal.ch
X-WR-CALDESC:Veranstaltungen für PSO - Pistolensektion Obersiggenthal
REFRESH-INTERVAL;VALUE=DURATION:PT1H
X-Robots-Tag:noindex
X-PUBLISHED-TTL:PT1H
BEGIN:VTIMEZONE
TZID:Europe/Zurich
BEGIN:DAYLIGHT
TZOFFSETFROM:+0100
TZOFFSETTO:+0200
TZNAME:CEST
DTSTART:20250330T010000
END:DAYLIGHT
BEGIN:STANDARD
TZOFFSETFROM:+0200
TZOFFSETTO:+0100
TZNAME:CET
DTSTART:20251026T010000
END:STANDARD
BEGIN:DAYLIGHT
TZOFFSETFROM:+0100
TZOFFSETTO:+0200
TZNAME:CEST
DTSTART:20260329T010000
END:DAYLIGHT
BEGIN:STANDARD
TZOFFSETFROM:+0200
TZOFFSETTO:+0100
TZNAME:CET
DTSTART:20261025T010000
END:STANDARD
BEGIN:DAYLIGHT
TZOFFSETFROM:+0100
TZOFFSETTO:+0200
TZNAME:CEST
DTSTART:20270328T010000
END:DAYLIGHT
BEGIN:STANDARD
TZOFFSETFROM:+0200
TZOFFSETTO:+0100
TZNAME:CET
DTSTART:20271031T010000
END:STANDARD
END:VTIMEZONE
BEGIN:VEVENT
DTSTART;TZID=Europe/Zurich:20260603T173000
DTEND;TZID=Europe/Zurich:20260603T200000
DTSTAMP:20260422T190536
CREATED:20260217T201956Z
LAST-MODIFIED:20260218T120356Z
UID:1069-1780507800-1780516800@ps-obersiggenthal.ch
SUMMARY:Training
DESCRIPTION:Standaufsicht K. Meier
URL:https://ps-obersiggenthal.ch/event/training-14/
LOCATION:SA Ebne\, SA Ebne\, Obersiggenthal\, Aargau\, 5415\, Schweiz
CATEGORIES:Freies Training,Training
END:VEVENT
BEGIN:VEVENT
DTSTART;TZID=Europe/Zurich:20260605T073000
DTEND;TZID=Europe/Zurich:20260705T190000
DTSTAMP:20260422T190536
CREATED:20260222T164829Z
LAST-MODIFIED:20260222T164943Z
UID:1262-1780644600-1783278000@ps-obersiggenthal.ch
SUMMARY:Eidgenössisches Schützenfest Chur
DESCRIPTION:Freitag\, 5. Juni\, bis Sonntag\, 5. Juli 2026 (12.00 Uhr) \nGrundsätzlich ist der Mittwoch schiessfrei. Auf den Aussenschiessplätzen wird von Freitag bis Sonntag geschossen. Ab Freitag\, 3. Juli\, bis Sonntag\, 5. Juli 2026 (12.00 Uhr)\, findet ein reduziertes allgemeines Schiessen statt. Diese Tage sind primär reserviert für den Ständematch und die Schützenkönigs-Konkurrenzen. Die Schiesstage und die Schiesszeiten können vom OK nach Bedarf angepasst werden. Täglich von 07.30–12.00 Uhr und von 13.30–19.00 Uhr Ausnahmen: – Sonntags wird jeweils nur bis 17.00 Uhr geschossen– Sonntags auf den Aussenschiessplätzen 08.00–12.00 Uhr und von 13.30–17.00 Uhr– am 5. Juli 2026 endet das allgemeine Schiessen bereits um 12.00 Uhr
URL:https://ps-obersiggenthal.ch/event/eidgenoessisches-schuetzenfest-chur/
LOCATION:Eidgenössisches Schützenfest Chur\, 46°51’14.5“N 9°30’06.8“E\, Chur\, GR\, 7000\, Switzerland
CATEGORIES:Wettschiessen auswärts
ORGANIZER;CN="ESF2026":MAILTO:Martin.Candinas@gr2026.ch
END:VEVENT
BEGIN:VEVENT
DTSTART;TZID=Europe/Zurich:20260610T173000
DTEND;TZID=Europe/Zurich:20260610T200000
DTSTAMP:20260422T190536
CREATED:20260217T202102Z
LAST-MODIFIED:20260218T120351Z
UID:1071-1781112600-1781121600@ps-obersiggenthal.ch
SUMMARY:Training
DESCRIPTION:Standaufsicht B. Marchesi
URL:https://ps-obersiggenthal.ch/event/training-15/
LOCATION:SA Ebne\, SA Ebne\, Obersiggenthal\, Aargau\, 5415\, Schweiz
CATEGORIES:Freies Training mit Munitionsverkauf,Training
END:VEVENT
BEGIN:VEVENT
DTSTART;TZID=Europe/Zurich:20260611T173000
DTEND;TZID=Europe/Zurich:20260611T200000
DTSTAMP:20260422T190536
CREATED:20260217T202203Z
LAST-MODIFIED:20260218T120345Z
UID:1073-1781199000-1781208000@ps-obersiggenthal.ch
SUMMARY:Training
DESCRIPTION:Standaufsicht D. Riek
URL:https://ps-obersiggenthal.ch/event/training-16/
LOCATION:SA Ebne\, SA Ebne\, Obersiggenthal\, Aargau\, 5415\, Schweiz
CATEGORIES:Freies Training,Training
END:VEVENT
BEGIN:VEVENT
DTSTART;TZID=Europe/Zurich:20260612T160000
DTEND;TZID=Europe/Zurich:20260612T190000
DTSTAMP:20260422T190536
CREATED:20260218T113323Z
LAST-MODIFIED:20260218T120339Z
UID:1174-1781280000-1781290800@ps-obersiggenthal.ch
SUMMARY:37. Spreitenbacher Pistolenschiessen 2026
DESCRIPTION:Spreitenbacher Pistolenschiessen\n\n\n\n\n\n\n\n\n37. Spreitenbacher Pistolenschiessen 2026\n\n\n\nFreitag     12 . +  Freitag     19.  Juni 2026 16:00 – 19:00\n\n\nSamstag  13. +  Samstag   20.  Juni 2026 09:00 – 12:00 / 13:30 – 16:00
URL:https://ps-obersiggenthal.ch/event/37-spreitenbacher-pistolenschiessen-2026/
LOCATION:SA Härdli (Spreitenbach)\, Zweifelstrasse 6\, Spreitenbach\, Aargau\, 8957\, Switzerland
CATEGORIES:Wettschiessen auswärts
END:VEVENT
BEGIN:VEVENT
DTSTART;TZID=Europe/Zurich:20260613T090000
DTEND;TZID=Europe/Zurich:20260613T160000
DTSTAMP:20260422T190536
CREATED:20260218T113603Z
LAST-MODIFIED:20260218T120334Z
UID:1178-1781341200-1781366400@ps-obersiggenthal.ch
SUMMARY:37. Spreitenbacher Pistolenschiessen 2026
DESCRIPTION:Spreitenbacher Pistolenschiessen\n\n\n\n\n\n\n\n\n37. Spreitenbacher Pistolenschiessen 2026\n\n\n\nFreitag     12 . +  Freitag     19.  Juni 2026 16:00 – 19:00\n\n\nSamstag  13. +  Samstag   20.  Juni 2026 09:00 – 12:00 / 13:30 – 16:00
URL:https://ps-obersiggenthal.ch/event/37-spreitenbacher-pistolenschiessen-2026-3/
LOCATION:SA Härdli (Spreitenbach)\, Zweifelstrasse 6\, Spreitenbach\, Aargau\, 8957\, Switzerland
CATEGORIES:Wettschiessen auswärts
END:VEVENT
BEGIN:VEVENT
DTSTART;TZID=Europe/Zurich:20260617T173000
DTEND;TZID=Europe/Zurich:20260617T200000
DTSTAMP:20260422T190536
CREATED:20260217T202426Z
LAST-MODIFIED:20260218T120328Z
UID:1075-1781717400-1781726400@ps-obersiggenthal.ch
SUMMARY:Training
DESCRIPTION:Standaufsicht A. Barben
URL:https://ps-obersiggenthal.ch/event/training-17/
LOCATION:SA Ebne\, SA Ebne\, Obersiggenthal\, Aargau\, 5415\, Schweiz
CATEGORIES:Freies Training,Training
END:VEVENT
BEGIN:VEVENT
DTSTART;TZID=Europe/Zurich:20260618T173000
DTEND;TZID=Europe/Zurich:20260618T200000
DTSTAMP:20260422T190536
CREATED:20260217T202513Z
LAST-MODIFIED:20260218T093422Z
UID:1077-1781803800-1781812800@ps-obersiggenthal.ch
SUMMARY:Training
DESCRIPTION:Standaufsicht E. Brühwiler
URL:https://ps-obersiggenthal.ch/event/training-18/
LOCATION:SA Ebne\, SA Ebne\, Obersiggenthal\, Aargau\, 5415\, Schweiz
CATEGORIES:Freies Training,Training
END:VEVENT
BEGIN:VEVENT
DTSTART;TZID=Europe/Zurich:20260619T160000
DTEND;TZID=Europe/Zurich:20260619T190000
DTSTAMP:20260422T190536
CREATED:20260218T113407Z
LAST-MODIFIED:20260218T120323Z
UID:1176-1781884800-1781895600@ps-obersiggenthal.ch
SUMMARY:37. Spreitenbacher Pistolenschiessen 2026
DESCRIPTION:Spreitenbacher Pistolenschiessen\n\n\n\n\n\n\n\n\n37. Spreitenbacher Pistolenschiessen 2026\n\n\n\nFreitag     12 . +  Freitag     19.  Juni 2026 16:00 – 19:00\n\n\nSamstag  13. +  Samstag   20.  Juni 2026 09:00 – 12:00 / 13:30 – 16:00
URL:https://ps-obersiggenthal.ch/event/37-spreitenbacher-pistolenschiessen-2026-2/
LOCATION:SA Härdli (Spreitenbach)\, Zweifelstrasse 6\, Spreitenbach\, Aargau\, 8957\, Switzerland
CATEGORIES:Wettschiessen auswärts
END:VEVENT
BEGIN:VEVENT
DTSTART;TZID=Europe/Zurich:20260620T090000
DTEND;TZID=Europe/Zurich:20260620T160000
DTSTAMP:20260422T190536
CREATED:20260218T113653Z
LAST-MODIFIED:20260218T120317Z
UID:1180-1781946000-1781971200@ps-obersiggenthal.ch
SUMMARY:37. Spreitenbacher Pistolenschiessen 2026
DESCRIPTION:Spreitenbacher Pistolenschiessen\n\n\n\n\n\n\n\n\n37. Spreitenbacher Pistolenschiessen 2026\n\n\n\nFreitag     12 . +  Freitag     19.  Juni 2026 16:00 – 19:00\n\n\nSamstag  13. +  Samstag   20.  Juni 2026 09:00 – 12:00 / 13:30 – 16:00
URL:https://ps-obersiggenthal.ch/event/37-spreitenbacher-pistolenschiessen-2026-4/
LOCATION:SA Härdli (Spreitenbach)\, Zweifelstrasse 6\, Spreitenbach\, Aargau\, 8957\, Switzerland
CATEGORIES:Wettschiessen auswärts
END:VEVENT
BEGIN:VEVENT
DTSTART;TZID=Europe/Zurich:20260624T173000
DTEND;TZID=Europe/Zurich:20260624T200000
DTSTAMP:20260422T190536
CREATED:20260217T202610Z
LAST-MODIFIED:20260218T093417Z
UID:1079-1782322200-1782331200@ps-obersiggenthal.ch
SUMMARY:Training
DESCRIPTION:Standaufsicht Ch. Riek
URL:https://ps-obersiggenthal.ch/event/training-19/
LOCATION:SA Ebne\, SA Ebne\, Obersiggenthal\, Aargau\, 5415\, Schweiz
CATEGORIES:Freies Training,Training
END:VEVENT
END:VCALENDAR