BEGIN:VCALENDAR
VERSION:2.0
PRODID:-//PSO - Pistolensektion Obersiggenthal - ECPv6.15.20//NONSGML v1.0//EN
CALSCALE:GREGORIAN
METHOD:PUBLISH
X-ORIGINAL-URL:https://ps-obersiggenthal.ch
X-WR-CALDESC:Veranstaltungen für PSO - Pistolensektion Obersiggenthal
REFRESH-INTERVAL;VALUE=DURATION:PT1H
X-Robots-Tag:noindex
X-PUBLISHED-TTL:PT1H
BEGIN:VTIMEZONE
TZID:Europe/Zurich
BEGIN:DAYLIGHT
TZOFFSETFROM:+0100
TZOFFSETTO:+0200
TZNAME:CEST
DTSTART:20250330T010000
END:DAYLIGHT
BEGIN:STANDARD
TZOFFSETFROM:+0200
TZOFFSETTO:+0100
TZNAME:CET
DTSTART:20251026T010000
END:STANDARD
BEGIN:DAYLIGHT
TZOFFSETFROM:+0100
TZOFFSETTO:+0200
TZNAME:CEST
DTSTART:20260329T010000
END:DAYLIGHT
BEGIN:STANDARD
TZOFFSETFROM:+0200
TZOFFSETTO:+0100
TZNAME:CET
DTSTART:20261025T010000
END:STANDARD
BEGIN:DAYLIGHT
TZOFFSETFROM:+0100
TZOFFSETTO:+0200
TZNAME:CEST
DTSTART:20270328T010000
END:DAYLIGHT
BEGIN:STANDARD
TZOFFSETFROM:+0200
TZOFFSETTO:+0100
TZNAME:CET
DTSTART:20271031T010000
END:STANDARD
END:VTIMEZONE
BEGIN:VEVENT
DTSTART;TZID=Europe/Zurich:20260325T170000
DTEND;TZID=Europe/Zurich:20260325T190000
DTSTAMP:20260422T171432
CREATED:20260217T200014Z
LAST-MODIFIED:20260218T093632Z
UID:1043-1774458000-1774465200@ps-obersiggenthal.ch
SUMMARY:Training
DESCRIPTION:Standaufsicht Ch. Riek
URL:https://ps-obersiggenthal.ch/event/training-2/
LOCATION:SA Ebne\, SA Ebne\, Obersiggenthal\, Aargau\, 5415\, Schweiz
CATEGORIES:Freies Training mit Munitionsverkauf,Training
END:VEVENT
BEGIN:VEVENT
DTSTART;TZID=Europe/Zurich:20260328T150000
DTEND;TZID=Europe/Zurich:20260328T170000
DTSTAMP:20260422T171432
CREATED:20260218T094832Z
LAST-MODIFIED:20260218T120547Z
UID:1137-1774710000-1774717200@ps-obersiggenthal.ch
SUMMARY:41. „TENEDO – SCHIESSET“ Bad Zurzach 50 / 25 Meter
DESCRIPTION:Tenedo 2026\n\n\nDie Schützengesellschaft Zurzach bedankt sich für Ihre Teilnahme und würde sich freuen\, Sie auch beim \n\n\n41. „TENEDO – SCHIESSET“ Bad Zurzach 50 / 25 Meter\n\n\nSamstag                  28. März 2026 15.00 – 17.00 \nSamstag                  04. April 2026 15.00 – 17.00 \nOstermontag         06. April 2026 09.00 – 12.00 \n\n\nwieder begrüssen zu dürfen.   “Guet Schuss!”
URL:https://ps-obersiggenthal.ch/event/41-tenedo-schiesset-bad-zurzach-50-25-meter/
LOCATION:RSA Grütt\, H7HP+G4 Bad Zurzach\, Bad Zurzach\, Aargau\, 5330\, Switzerland
CATEGORIES:Wettschiessen auswärts
END:VEVENT
END:VCALENDAR