BEGIN:VCALENDAR
VERSION:2.0
PRODID:-//PSO - Pistolensektion Obersiggenthal - ECPv6.15.20//NONSGML v1.0//EN
CALSCALE:GREGORIAN
METHOD:PUBLISH
X-WR-CALNAME:PSO - Pistolensektion Obersiggenthal
X-ORIGINAL-URL:https://ps-obersiggenthal.ch
X-WR-CALDESC:Veranstaltungen für PSO - Pistolensektion Obersiggenthal
REFRESH-INTERVAL;VALUE=DURATION:PT1H
X-Robots-Tag:noindex
X-PUBLISHED-TTL:PT1H
BEGIN:VTIMEZONE
TZID:Europe/Zurich
BEGIN:DAYLIGHT
TZOFFSETFROM:+0100
TZOFFSETTO:+0200
TZNAME:CEST
DTSTART:20250330T010000
END:DAYLIGHT
BEGIN:STANDARD
TZOFFSETFROM:+0200
TZOFFSETTO:+0100
TZNAME:CET
DTSTART:20251026T010000
END:STANDARD
BEGIN:DAYLIGHT
TZOFFSETFROM:+0100
TZOFFSETTO:+0200
TZNAME:CEST
DTSTART:20260329T010000
END:DAYLIGHT
BEGIN:STANDARD
TZOFFSETFROM:+0200
TZOFFSETTO:+0100
TZNAME:CET
DTSTART:20261025T010000
END:STANDARD
BEGIN:DAYLIGHT
TZOFFSETFROM:+0100
TZOFFSETTO:+0200
TZNAME:CEST
DTSTART:20270328T010000
END:DAYLIGHT
BEGIN:STANDARD
TZOFFSETFROM:+0200
TZOFFSETTO:+0100
TZNAME:CET
DTSTART:20271031T010000
END:STANDARD
END:VTIMEZONE
BEGIN:VEVENT
DTSTART;TZID=Europe/Zurich:20260805T173000
DTEND;TZID=Europe/Zurich:20260805T200000
DTSTAMP:20260422T190428
CREATED:20260217T203200Z
LAST-MODIFIED:20260218T093344Z
UID:1091-1785951000-1785960000@ps-obersiggenthal.ch
SUMMARY:Training
DESCRIPTION:Standaufsicht Ch. Riek
URL:https://ps-obersiggenthal.ch/event/training-25/
LOCATION:SA Ebne\, SA Ebne\, Obersiggenthal\, Aargau\, 5415\, Schweiz
CATEGORIES:Freies Training,Training
END:VEVENT
BEGIN:VEVENT
DTSTART;TZID=Europe/Zurich:20260812T173000
DTEND;TZID=Europe/Zurich:20260812T200000
DTSTAMP:20260422T190428
CREATED:20260217T203253Z
LAST-MODIFIED:20260218T093338Z
UID:1093-1786555800-1786564800@ps-obersiggenthal.ch
SUMMARY:Training
DESCRIPTION:Standaufsicht K. Meier
URL:https://ps-obersiggenthal.ch/event/training-26/
LOCATION:SA Ebne\, SA Ebne\, Obersiggenthal\, Aargau\, 5415\, Schweiz
CATEGORIES:Freies Training,Training
END:VEVENT
BEGIN:VEVENT
DTSTART;TZID=Europe/Zurich:20260813T173000
DTEND;TZID=Europe/Zurich:20260813T200000
DTSTAMP:20260422T190428
CREATED:20260217T203441Z
LAST-MODIFIED:20260218T093847Z
UID:1095-1786642200-1786651200@ps-obersiggenthal.ch
SUMMARY:2. Obligatorisch 25/50m
DESCRIPTION:Standaufsicht A. Barben\, F. Fallica
URL:https://ps-obersiggenthal.ch/event/2-obligatorisch-25-50m/
LOCATION:SA Ebne\, SA Ebne\, Obersiggenthal\, Aargau\, 5415\, Schweiz
CATEGORIES:Wettschiessen Heim
END:VEVENT
BEGIN:VEVENT
DTSTART;TZID=Europe/Zurich:20260819T173000
DTEND;TZID=Europe/Zurich:20260819T200000
DTSTAMP:20260422T190428
CREATED:20260217T203546Z
LAST-MODIFIED:20260218T093332Z
UID:1097-1787160600-1787169600@ps-obersiggenthal.ch
SUMMARY:Training
DESCRIPTION:Standaufsicht Ch. Riek
URL:https://ps-obersiggenthal.ch/event/training-27/
LOCATION:SA Ebne\, SA Ebne\, Obersiggenthal\, Aargau\, 5415\, Schweiz
CATEGORIES:Freies Training,Training
END:VEVENT
BEGIN:VEVENT
DTSTART;TZID=Europe/Zurich:20260820T173000
DTEND;TZID=Europe/Zurich:20260820T200000
DTSTAMP:20260422T190428
CREATED:20260217T203706Z
LAST-MODIFIED:20260218T093326Z
UID:1099-1787247000-1787256000@ps-obersiggenthal.ch
SUMMARY:Training
DESCRIPTION:Standaufsicht M. Flatau
URL:https://ps-obersiggenthal.ch/event/training-28/
LOCATION:SA Ebne\, SA Ebne\, Obersiggenthal\, Aargau\, 5415\, Schweiz
CATEGORIES:Freies Training,Training
END:VEVENT
BEGIN:VEVENT
DTSTART;TZID=Europe/Zurich:20260821T170000
DTEND;TZID=Europe/Zurich:20260821T193000
DTSTAMP:20260422T190428
CREATED:20260218T114218Z
LAST-MODIFIED:20260218T120306Z
UID:1187-1787331600-1787340600@ps-obersiggenthal.ch
SUMMARY:29. Fuchshaldenschiessen
DESCRIPTION:Der Gruppenstich kann wahlweise auf 50m oder auch auf 25m geschossen werden. Ab der Alterskategorie Senior kann zudem auf der 50m Distanz eine Auflage verwendet werden. Beim Gabenstich auf der 25m Distanz kann ein Blütenhonig aus der Region abgestaubt werden 😉 \nWeitere Details zum Programm können dem folgenden Flyer (<– bitte Link anklicken) oder dem genehmigten Schiessplan (<– bitte Link anklicken) entnommen werden. Jeweils 5 Schützen einer Sektion bilden eine Gruppe und wir nehmen eure Anmeldungen gerne entgegen: \nAnmeldeformular zum Ausdrucken (an aktuar@prkeigenamt.ch mailen)   Elektronisches Anmeldeformular \n\n\n\n\n\n\n\n\nDaten 2026\n\n\n\n\n\n\n\n\nFreitag\, 21. August 2026 von 17:00 bis 19:30 \nFreitag\, 28. August 2026 von 17:00 bis 19:30 \nSamstag\, 29. August 2026 von 09:30 bis 12:00 und von 13:00 bis 16:30
URL:https://ps-obersiggenthal.ch/event/29-fuchshaldenschiessen/
LOCATION:Schützenhaus Fuchshalde\, SChützenhaus Fuchshalde\, Lupfig\, Aargau\, 5242\, Switzerland
CATEGORIES:Wettschiessen auswärts
END:VEVENT
BEGIN:VEVENT
DTSTART;TZID=Europe/Zurich:20260826T173000
DTEND;TZID=Europe/Zurich:20260826T200000
DTSTAMP:20260422T190428
CREATED:20260217T203804Z
LAST-MODIFIED:20260218T093321Z
UID:1101-1787765400-1787774400@ps-obersiggenthal.ch
SUMMARY:Training
DESCRIPTION:Standaufsicht P. Nöthiger
URL:https://ps-obersiggenthal.ch/event/training-29/
LOCATION:SA Ebne\, SA Ebne\, Obersiggenthal\, Aargau\, 5415\, Schweiz
CATEGORIES:Freies Training,Training
END:VEVENT
BEGIN:VEVENT
DTSTART;TZID=Europe/Zurich:20260828T170000
DTEND;TZID=Europe/Zurich:20260828T193000
DTSTAMP:20260422T190428
CREATED:20260218T114301Z
LAST-MODIFIED:20260218T114447Z
UID:1189-1787936400-1787945400@ps-obersiggenthal.ch
SUMMARY:29. Fuchshaldenschiessen
DESCRIPTION:Der Gruppenstich kann wahlweise auf 50m oder auch auf 25m geschossen werden. Ab der Alterskategorie Senior kann zudem auf der 50m Distanz eine Auflage verwendet werden. Beim Gabenstich auf der 25m Distanz kann ein Blütenhonig aus der Region abgestaubt werden 😉 \nWeitere Details zum Programm können dem folgenden Flyer (<– bitte Link anklicken) oder dem genehmigten Schiessplan (<– bitte Link anklicken) entnommen werden. Jeweils 5 Schützen einer Sektion bilden eine Gruppe und wir nehmen eure Anmeldungen gerne entgegen: \nAnmeldeformular zum Ausdrucken (an aktuar@prkeigenamt.ch mailen)   Elektronisches Anmeldeformular \n\n\n\n\n\n\n\n\nDaten 2026\n\n\n\n\n\n\n\n\nFreitag\, 21. August 2026 von 17:00 bis 19:30 \nFreitag\, 28. August 2026 von 17:00 bis 19:30 \nSamstag\, 29. August 2026 von 09:30 bis 12:00 und von 13:00 bis 16:30
URL:https://ps-obersiggenthal.ch/event/29-fuchshaldenschiessen-2/
LOCATION:Schützenhaus Fuchshalde\, SChützenhaus Fuchshalde\, Lupfig\, Aargau\, 5242\, Switzerland
CATEGORIES:Wettschiessen auswärts
END:VEVENT
BEGIN:VEVENT
DTSTART;TZID=Europe/Zurich:20260829T093000
DTEND;TZID=Europe/Zurich:20260829T163000
DTSTAMP:20260422T190428
CREATED:20260218T114426Z
LAST-MODIFIED:20260218T120301Z
UID:1191-1787995800-1788021000@ps-obersiggenthal.ch
SUMMARY:29. Fuchshaldenschiessen
DESCRIPTION:Der Gruppenstich kann wahlweise auf 50m oder auch auf 25m geschossen werden. Ab der Alterskategorie Senior kann zudem auf der 50m Distanz eine Auflage verwendet werden. Beim Gabenstich auf der 25m Distanz kann ein Blütenhonig aus der Region abgestaubt werden 😉 \nWeitere Details zum Programm können dem folgenden Flyer (<– bitte Link anklicken) oder dem genehmigten Schiessplan (<– bitte Link anklicken) entnommen werden. Jeweils 5 Schützen einer Sektion bilden eine Gruppe und wir nehmen eure Anmeldungen gerne entgegen: \nAnmeldeformular zum Ausdrucken (an aktuar@prkeigenamt.ch mailen)   Elektronisches Anmeldeformular \n\n\n\n\n\n\n\n\nDaten 2026\n\n\n\n\n\n\n\n\nFreitag\, 21. August 2026 von 17:00 bis 19:30 \nFreitag\, 28. August 2026 von 17:00 bis 19:30 \nSamstag\, 29. August 2026 von 09:30 bis 12:00 und von 13:00 bis 16:30
URL:https://ps-obersiggenthal.ch/event/29-fuchshaldenschiessen-3/
LOCATION:Schützenhaus Fuchshalde\, SChützenhaus Fuchshalde\, Lupfig\, Aargau\, 5242\, Switzerland
CATEGORIES:Wettschiessen auswärts
END:VEVENT
BEGIN:VEVENT
DTSTART;TZID=Europe/Zurich:20260829T133000
DTEND;TZID=Europe/Zurich:20260829T170000
DTSTAMP:20260422T190428
CREATED:20260217T203934Z
LAST-MODIFIED:20260218T093830Z
UID:1103-1788010200-1788022800@ps-obersiggenthal.ch
SUMMARY:Herbst-Cup 25m
DESCRIPTION:Standaufsicht Ch. Riek
URL:https://ps-obersiggenthal.ch/event/herbst-cup-25m/
LOCATION:SA Ebne\, SA Ebne\, Obersiggenthal\, Aargau\, 5415\, Schweiz
CATEGORIES:Wettschiessen Heim
END:VEVENT
BEGIN:VEVENT
DTSTART;TZID=Europe/Zurich:20260902T173000
DTEND;TZID=Europe/Zurich:20260902T200000
DTSTAMP:20260422T190428
CREATED:20260217T204139Z
LAST-MODIFIED:20260218T093315Z
UID:1105-1788370200-1788379200@ps-obersiggenthal.ch
SUMMARY:Training
DESCRIPTION:Standaufsicht Ch. Riek \nAlle erlaubten Faustfeuerwaffen
URL:https://ps-obersiggenthal.ch/event/training-30/
LOCATION:SA Ebne\, SA Ebne\, Obersiggenthal\, Aargau\, 5415\, Schweiz
CATEGORIES:Freies Training,Training
END:VEVENT
BEGIN:VEVENT
DTSTART;TZID=Europe/Zurich:20260905T090000
DTEND;TZID=Europe/Zurich:20260905T160000
DTSTAMP:20260422T190428
CREATED:20260218T114829Z
LAST-MODIFIED:20260218T120255Z
UID:1193-1788598800-1788624000@ps-obersiggenthal.ch
SUMMARY:16. Bareggschiessen 2026
DESCRIPTION:16. Bareggschiessen 2026
URL:https://ps-obersiggenthal.ch/event/16-bareggschiessen-2026/
LOCATION:Schützenhaus Neuenhof\, Schützenhaus Neuenhof\, Neuenhof\, Aargau\, 5432\, Switzerland
CATEGORIES:Wettschiessen auswärts
END:VEVENT
BEGIN:VEVENT
DTSTART;TZID=Europe/Zurich:20260909T173000
DTEND;TZID=Europe/Zurich:20260909T200000
DTSTAMP:20260422T190428
CREATED:20260217T204235Z
LAST-MODIFIED:20260218T093309Z
UID:1107-1788975000-1788984000@ps-obersiggenthal.ch
SUMMARY:Training
DESCRIPTION:Standaufsicht E. Brühwiler
URL:https://ps-obersiggenthal.ch/event/training-31/
LOCATION:SA Ebne\, SA Ebne\, Obersiggenthal\, Aargau\, 5415\, Schweiz
CATEGORIES:Freies Training,Training
END:VEVENT
BEGIN:VEVENT
DTSTART;TZID=Europe/Zurich:20260911T170000
DTEND;TZID=Europe/Zurich:20260911T200000
DTSTAMP:20260422T190428
CREATED:20260218T114931Z
LAST-MODIFIED:20260218T120248Z
UID:1196-1789146000-1789156800@ps-obersiggenthal.ch
SUMMARY:16. Bareggschiessen 2026
DESCRIPTION:16. Bareggschiessen 2026
URL:https://ps-obersiggenthal.ch/event/16-bareggschiessen-2026-2/
LOCATION:Schützenhaus Neuenhof\, Schützenhaus Neuenhof\, Neuenhof\, Aargau\, 5432\, Switzerland
CATEGORIES:Wettschiessen auswärts
END:VEVENT
BEGIN:VEVENT
DTSTART;TZID=Europe/Zurich:20260912T090000
DTEND;TZID=Europe/Zurich:20260912T153000
DTSTAMP:20260422T190428
CREATED:20260218T115019Z
LAST-MODIFIED:20260218T120243Z
UID:1198-1789203600-1789227000@ps-obersiggenthal.ch
SUMMARY:16. Bareggschiessen 2026
DESCRIPTION:16. Bareggschiessen 2026
URL:https://ps-obersiggenthal.ch/event/16-bareggschiessen-2026-3/
LOCATION:Schützenhaus Neuenhof\, Schützenhaus Neuenhof\, Neuenhof\, Aargau\, 5432\, Switzerland
CATEGORIES:Wettschiessen auswärts
END:VEVENT
BEGIN:VEVENT
DTSTART;TZID=Europe/Zurich:20260916T173000
DTEND;TZID=Europe/Zurich:20260916T193000
DTSTAMP:20260422T190428
CREATED:20260217T204336Z
LAST-MODIFIED:20260218T093225Z
UID:1109-1789579800-1789587000@ps-obersiggenthal.ch
SUMMARY:Training
DESCRIPTION:Standaufsicht A. Barben
URL:https://ps-obersiggenthal.ch/event/training-32/
LOCATION:SA Ebne\, SA Ebne\, Obersiggenthal\, Aargau\, 5415\, Schweiz
CATEGORIES:Freies Training,Training
END:VEVENT
BEGIN:VEVENT
DTSTART;TZID=Europe/Zurich:20260919T093000
DTEND;TZID=Europe/Zurich:20260919T163000
DTSTAMP:20260422T190428
CREATED:20260217T204533Z
LAST-MODIFIED:20260217T213228Z
UID:1111-1789810200-1789835400@ps-obersiggenthal.ch
SUMMARY:Endschiessen
DESCRIPTION:Standaufsicht Ch. Riek
URL:https://ps-obersiggenthal.ch/event/endschiessen/
LOCATION:SA Ebne\, SA Ebne\, Obersiggenthal\, Aargau\, 5415\, Schweiz
CATEGORIES:Wettschiessen Heim
END:VEVENT
BEGIN:VEVENT
DTSTART;TZID=Europe/Zurich:20260923T173000
DTEND;TZID=Europe/Zurich:20260923T190000
DTSTAMP:20260422T190428
CREATED:20260217T204657Z
LAST-MODIFIED:20260218T093253Z
UID:1113-1790184600-1790190000@ps-obersiggenthal.ch
SUMMARY:Training
DESCRIPTION:Standaufsicht K. Meier
URL:https://ps-obersiggenthal.ch/event/training-33/
LOCATION:SA Ebne\, SA Ebne\, Obersiggenthal\, Aargau\, 5415\, Schweiz
CATEGORIES:Freies Training,Training
END:VEVENT
BEGIN:VEVENT
DTSTART;TZID=Europe/Zurich:20260930T173000
DTEND;TZID=Europe/Zurich:20260930T190000
DTSTAMP:20260422T190428
CREATED:20260217T204744Z
LAST-MODIFIED:20260218T093243Z
UID:1115-1790789400-1790794800@ps-obersiggenthal.ch
SUMMARY:Training
DESCRIPTION:Standaufsicht Ch. Riek
URL:https://ps-obersiggenthal.ch/event/training-34/
LOCATION:SA Ebne\, SA Ebne\, Obersiggenthal\, Aargau\, 5415\, Schweiz
CATEGORIES:Freies Training,Training
END:VEVENT
BEGIN:VEVENT
DTSTART;TZID=Europe/Zurich:20261003T133000
DTEND;TZID=Europe/Zurich:20261003T173000
DTSTAMP:20260422T190428
CREATED:20260218T115919Z
LAST-MODIFIED:20260218T120236Z
UID:1204-1791034200-1791048600@ps-obersiggenthal.ch
SUMMARY:53. Schorütischiessen
DESCRIPTION:
URL:https://ps-obersiggenthal.ch/event/53-schoruetischiessen/
LOCATION:Kölliken\, Ghürststrasse 384\, Kölliken\, Aargau\, 5742\, Schweiz
CATEGORIES:Wettschiessen auswärts
END:VEVENT
BEGIN:VEVENT
DTSTART;TZID=Europe/Zurich:20261010T090000
DTEND;TZID=Europe/Zurich:20261010T173000
DTSTAMP:20260422T190428
CREATED:20260218T120009Z
LAST-MODIFIED:20260218T120230Z
UID:1206-1791622800-1791653400@ps-obersiggenthal.ch
SUMMARY:53. Schorütischiessen
DESCRIPTION:
URL:https://ps-obersiggenthal.ch/event/53-schoruetischiessen-2/
LOCATION:Kölliken\, Ghürststrasse 384\, Kölliken\, Aargau\, 5742\, Schweiz
CATEGORIES:Wettschiessen auswärts
END:VEVENT
BEGIN:VEVENT
DTSTART;TZID=Europe/Zurich:20261011T090000
DTEND;TZID=Europe/Zurich:20261011T113000
DTSTAMP:20260422T190428
CREATED:20260218T120134Z
LAST-MODIFIED:20260218T120225Z
UID:1208-1791709200-1791718200@ps-obersiggenthal.ch
SUMMARY:53. Schorütischiessen
DESCRIPTION:
URL:https://ps-obersiggenthal.ch/event/53-schoruetischiessen-3/
LOCATION:Kölliken\, Ghürststrasse 384\, Kölliken\, Aargau\, 5742\, Schweiz
CATEGORIES:Wettschiessen auswärts
END:VEVENT
END:VCALENDAR