BEGIN:VCALENDAR
VERSION:2.0
PRODID:-//PSO - Pistolensektion Obersiggenthal - ECPv6.15.20//NONSGML v1.0//EN
CALSCALE:GREGORIAN
METHOD:PUBLISH
X-ORIGINAL-URL:https://ps-obersiggenthal.ch
X-WR-CALDESC:Veranstaltungen für PSO - Pistolensektion Obersiggenthal
REFRESH-INTERVAL;VALUE=DURATION:PT1H
X-Robots-Tag:noindex
X-PUBLISHED-TTL:PT1H
BEGIN:VTIMEZONE
TZID:Europe/Zurich
BEGIN:DAYLIGHT
TZOFFSETFROM:+0100
TZOFFSETTO:+0200
TZNAME:CEST
DTSTART:20250330T010000
END:DAYLIGHT
BEGIN:STANDARD
TZOFFSETFROM:+0200
TZOFFSETTO:+0100
TZNAME:CET
DTSTART:20251026T010000
END:STANDARD
BEGIN:DAYLIGHT
TZOFFSETFROM:+0100
TZOFFSETTO:+0200
TZNAME:CEST
DTSTART:20260329T010000
END:DAYLIGHT
BEGIN:STANDARD
TZOFFSETFROM:+0200
TZOFFSETTO:+0100
TZNAME:CET
DTSTART:20261025T010000
END:STANDARD
BEGIN:DAYLIGHT
TZOFFSETFROM:+0100
TZOFFSETTO:+0200
TZNAME:CEST
DTSTART:20270328T010000
END:DAYLIGHT
BEGIN:STANDARD
TZOFFSETFROM:+0200
TZOFFSETTO:+0100
TZNAME:CET
DTSTART:20271031T010000
END:STANDARD
END:VTIMEZONE
BEGIN:VEVENT
DTSTART;TZID=Europe/Zurich:20260418T090000
DTEND;TZID=Europe/Zurich:20260418T170000
DTSTAMP:20260422T153425
CREATED:20260218T101719Z
LAST-MODIFIED:20260218T120503Z
UID:1166-1776502800-1776531600@ps-obersiggenthal.ch
SUMMARY:44. Homrig-Schiessen 2026
DESCRIPTION:44. Homrig-Schiessen 2026 \nPistolenclub Homrig\, Endingen\n18.04. / 25.04.2026\nSchiessplatz: RSA Homrig\, 5304 Endingen\n\nSektionsstich 50M\, Scheibe P10\n\nAchtung Neu: 4 Teilnehmer für eine Gruppe!!\n\n2 Schüsse EF (Probe\, einzeln gezeigt)\n6 Schüsse EF\n4 Schüsse SF (am Schluss gezeigt\, ohne Zeitbeschränkung)\n \nEinzelwettkampf ALS P 50m\, Scheibe P10\n1 Schuss EF (Probe)\n3 Schüsse EF\n3 Schüsse SF (am Schluss gezeigt\, ohne Zeitbeschränkung)\n5 Schüsse SF (am Schluss gezeigt\, ohne Zeitbeschränkung)\n \n\nAuszahlungsstich 25M\, Scheibe ISSF\n\n2 Schüsse Probe in 30 Sekunden\n2 x 5 Schüsse SF in je 30 Sekunden\n\nGenehmigter Schiessplan 2026 (pdf)\n\nAnmeldeformular Gruppen (pdf)
URL:https://ps-obersiggenthal.ch/event/44-homrig-schiessen-2026-3/
LOCATION:RSA Schützenhaus Homrig Endingen\, RSA Schützenhaus Homrig Endingen\, Endingen\, Aargau\, 5304\, Switzerland
CATEGORIES:Wettschiessen auswärts
ORGANIZER;CN="Pistolenclub Homrig":MAILTO:daniel67@bluewin.ch
END:VEVENT
BEGIN:VEVENT
DTSTART;TZID=Europe/Zurich:20260418T090000
DTEND;TZID=Europe/Zurich:20260418T163000
DTSTAMP:20260422T153425
CREATED:20260218T095402Z
LAST-MODIFIED:20260218T120508Z
UID:1145-1776502800-1776529800@ps-obersiggenthal.ch
SUMMARY:Türggenschiessen 2026
DESCRIPTION:Durchführung 2026                                               Schiesszeiten \n​​Freitag\,    17. April                                                             16.00 – 18.30 Uhr\nSamstag\, 18. April                            09.00 – 11.45 Uhr   13.30 – 16.30 Uhr\n \nFreitag\,    24. April                                                            16.00 – 18.30 Uhr\nSamstag\, 25. April                            09.00 – 11.45 Uhr   13.30 – 16.30 Uhr \nStandblattausgabe bis 20 Minuten vor Schiessende möglich! \nSchiessplan (genehmigt)\nGruppenstandblatt (Anmeldung)
URL:https://ps-obersiggenthal.ch/event/tuerggenschiessen-2026-2/
LOCATION:SA Ennetbaden\, F8JH+G3W Ennetbaden\, Ennetbaden\, Aargau\, 5408\, Switzerland
CATEGORIES:Wettschiessen auswärts
ORGANIZER;CN="PS Ennetbaden":MAILTO:info@ps-ennetbaden.ch
END:VEVENT
BEGIN:VEVENT
DTSTART;TZID=Europe/Zurich:20260417T160000
DTEND;TZID=Europe/Zurich:20260417T183000
DTSTAMP:20260422T153425
CREATED:20260218T095251Z
LAST-MODIFIED:20260218T120522Z
UID:1143-1776441600-1776450600@ps-obersiggenthal.ch
SUMMARY:Türggenschiessen 2026
DESCRIPTION:Durchführung 2026                                               Schiesszeiten \n​​Freitag\,    17. April                                                             16.00 – 18.30 Uhr\nSamstag\, 18. April                            09.00 – 11.45 Uhr   13.30 – 16.30 Uhr\n \nFreitag\,    24. April                                                            16.00 – 18.30 Uhr\nSamstag\, 25. April                            09.00 – 11.45 Uhr   13.30 – 16.30 Uhr \nStandblattausgabe bis 20 Minuten vor Schiessende möglich! \nSchiessplan (genehmigt)\nGruppenstandblatt (Anmeldung)
URL:https://ps-obersiggenthal.ch/event/tuerggenschiessen-2026/
LOCATION:SA Ennetbaden\, F8JH+G3W Ennetbaden\, Ennetbaden\, Aargau\, 5408\, Switzerland
CATEGORIES:Wettschiessen auswärts
ORGANIZER;CN="PS Ennetbaden":MAILTO:info@ps-ennetbaden.ch
END:VEVENT
BEGIN:VEVENT
DTSTART;TZID=Europe/Zurich:20260415T173000
DTEND;TZID=Europe/Zurich:20260415T200000
DTSTAMP:20260422T153425
CREATED:20260217T200549Z
LAST-MODIFIED:20260218T093609Z
UID:1049-1776274200-1776283200@ps-obersiggenthal.ch
SUMMARY:Training
DESCRIPTION:Standaufsicht A. Barben
URL:https://ps-obersiggenthal.ch/event/training-5/
LOCATION:SA Ebne\, SA Ebne\, Obersiggenthal\, Aargau\, 5415\, Schweiz
CATEGORIES:Freies Training mit Munitionsverkauf,Training
END:VEVENT
BEGIN:VEVENT
DTSTART;TZID=Europe/Zurich:20260411T133000
DTEND;TZID=Europe/Zurich:20260411T163000
DTSTAMP:20260422T153425
CREATED:20260215T181018Z
LAST-MODIFIED:20260217T213228Z
UID:977-1775914200-1775925000@ps-obersiggenthal.ch
SUMMARY:PSO-Cup 50m
DESCRIPTION:
URL:https://ps-obersiggenthal.ch/event/pso-cup-50m/
LOCATION:SA Ebne\, SA Ebne\, Obersiggenthal\, Aargau\, 5415\, Schweiz
CATEGORIES:Wettschiessen Heim
END:VEVENT
BEGIN:VEVENT
DTSTART;TZID=Europe/Zurich:20260408T173000
DTEND;TZID=Europe/Zurich:20260408T200000
DTSTAMP:20260422T153425
CREATED:20260217T200410Z
LAST-MODIFIED:20260218T093619Z
UID:1047-1775669400-1775678400@ps-obersiggenthal.ch
SUMMARY:Training
DESCRIPTION:Standaufsicht E. Brühwiler
URL:https://ps-obersiggenthal.ch/event/training-4/
LOCATION:SA Ebne\, SA Ebne\, Obersiggenthal\, Aargau\, 5415\, Schweiz
CATEGORIES:Freies Training,Training
END:VEVENT
BEGIN:VEVENT
DTSTART;TZID=Europe/Zurich:20260406T090000
DTEND;TZID=Europe/Zurich:20260406T120000
DTSTAMP:20260422T153425
CREATED:20260218T095017Z
LAST-MODIFIED:20260218T120534Z
UID:1141-1775466000-1775476800@ps-obersiggenthal.ch
SUMMARY:41. „TENEDO – SCHIESSET“ Bad Zurzach 50 / 25 Meter
DESCRIPTION:Tenedo 2026\n\n\nDie Schützengesellschaft Zurzach bedankt sich für Ihre Teilnahme und würde sich freuen\, Sie auch beim \n\n\n41. „TENEDO – SCHIESSET“ Bad Zurzach 50 / 25 Meter\n\n\nSamstag                  28. März 2026 15.00 – 17.00 \nSamstag                  04. April 2026 15.00 – 17.00 \nOstermontag         06. April 2026 09.00 – 12.00 \n\n\nwieder begrüssen zu dürfen.   “Guet Schuss!”
URL:https://ps-obersiggenthal.ch/event/41-tenedo-schiesset-bad-zurzach-50-25-meter-3/
LOCATION:RSA Grütt\, H7HP+G4 Bad Zurzach\, Bad Zurzach\, Aargau\, 5330\, Switzerland
CATEGORIES:Wettschiessen auswärts
END:VEVENT
BEGIN:VEVENT
DTSTART;TZID=Europe/Zurich:20260404T150000
DTEND;TZID=Europe/Zurich:20260404T170000
DTSTAMP:20260422T153425
CREATED:20260218T094921Z
LAST-MODIFIED:20260218T120539Z
UID:1139-1775314800-1775322000@ps-obersiggenthal.ch
SUMMARY:41. „TENEDO – SCHIESSET“ Bad Zurzach 50 / 25 Meter
DESCRIPTION:Tenedo 2026\n\n\nDie Schützengesellschaft Zurzach bedankt sich für Ihre Teilnahme und würde sich freuen\, Sie auch beim \n\n\n41. „TENEDO – SCHIESSET“ Bad Zurzach 50 / 25 Meter\n\n\nSamstag                  28. März 2026 15.00 – 17.00 \nSamstag                  04. April 2026 15.00 – 17.00 \nOstermontag         06. April 2026 09.00 – 12.00 \n\n\nwieder begrüssen zu dürfen.   “Guet Schuss!”
URL:https://ps-obersiggenthal.ch/event/41-tenedo-schiesset-bad-zurzach-50-25-meter-2/
LOCATION:RSA Grütt\, H7HP+G4 Bad Zurzach\, Bad Zurzach\, Aargau\, 5330\, Switzerland
CATEGORIES:Wettschiessen auswärts
END:VEVENT
BEGIN:VEVENT
DTSTART;TZID=Europe/Zurich:20260401T173000
DTEND;TZID=Europe/Zurich:20260401T200000
DTSTAMP:20260422T153425
CREATED:20260217T200251Z
LAST-MODIFIED:20260220T191929Z
UID:1045-1775064600-1775073600@ps-obersiggenthal.ch
SUMMARY:Training
DESCRIPTION:Standaufsicht P. Nöthiger \n  \nAlle erlaubten Waffen
URL:https://ps-obersiggenthal.ch/event/training-3/
LOCATION:SA Ebne\, SA Ebne\, Obersiggenthal\, Aargau\, 5415\, Schweiz
CATEGORIES:Freies Training,Training
END:VEVENT
BEGIN:VEVENT
DTSTART;TZID=Europe/Zurich:20260328T150000
DTEND;TZID=Europe/Zurich:20260328T170000
DTSTAMP:20260422T153425
CREATED:20260218T094832Z
LAST-MODIFIED:20260218T120547Z
UID:1137-1774710000-1774717200@ps-obersiggenthal.ch
SUMMARY:41. „TENEDO – SCHIESSET“ Bad Zurzach 50 / 25 Meter
DESCRIPTION:Tenedo 2026\n\n\nDie Schützengesellschaft Zurzach bedankt sich für Ihre Teilnahme und würde sich freuen\, Sie auch beim \n\n\n41. „TENEDO – SCHIESSET“ Bad Zurzach 50 / 25 Meter\n\n\nSamstag                  28. März 2026 15.00 – 17.00 \nSamstag                  04. April 2026 15.00 – 17.00 \nOstermontag         06. April 2026 09.00 – 12.00 \n\n\nwieder begrüssen zu dürfen.   “Guet Schuss!”
URL:https://ps-obersiggenthal.ch/event/41-tenedo-schiesset-bad-zurzach-50-25-meter/
LOCATION:RSA Grütt\, H7HP+G4 Bad Zurzach\, Bad Zurzach\, Aargau\, 5330\, Switzerland
CATEGORIES:Wettschiessen auswärts
END:VEVENT
BEGIN:VEVENT
DTSTART;TZID=Europe/Zurich:20260325T170000
DTEND;TZID=Europe/Zurich:20260325T190000
DTSTAMP:20260422T153425
CREATED:20260217T200014Z
LAST-MODIFIED:20260218T093632Z
UID:1043-1774458000-1774465200@ps-obersiggenthal.ch
SUMMARY:Training
DESCRIPTION:Standaufsicht Ch. Riek
URL:https://ps-obersiggenthal.ch/event/training-2/
LOCATION:SA Ebne\, SA Ebne\, Obersiggenthal\, Aargau\, 5415\, Schweiz
CATEGORIES:Freies Training mit Munitionsverkauf,Training
END:VEVENT
END:VCALENDAR